BEGIN:VCALENDAR
VERSION:2.0
PRODID:-//pretix//pretix.eu//
BEGIN:VTIMEZONE
TZID:Europe/Berlin
BEGIN:STANDARD
DTSTART:20001029T040000
RRULE:FREQ=YEARLY;BYDAY=-1SU;BYMONTH=10
TZNAME:CET
TZOFFSETFROM:+0200
TZOFFSETTO:+0100
END:STANDARD
BEGIN:DAYLIGHT
DTSTART:20000326T030000
RRULE:FREQ=YEARLY;BYDAY=-1SU;BYMONTH=3
TZNAME:CEST
TZOFFSETFROM:+0100
TZOFFSETTO:+0200
END:DAYLIGHT
END:VTIMEZONE
BEGIN:VEVENT
UID:pretix-buntewelt-MOC260402-0@tickets.buntewelt-cb.de
DTSTART;TZID=Europe/Berlin:20260402T200000
DTEND;TZID=Europe/Berlin:20260402T210000
DESCRIPTION:Tickets: https://tickets.buntewelt-cb.de/MOC260402/\nEinlass: 0
 2.04.2026 19:00\nVeranstalter: Kulturzentrum Bunte Welt
DTSTAMP:20260421T012100Z
LOCATION:Kulturzentrum Bunte Welt\, Thierbacher Straße 21\, 03048 Cottbus
SUMMARY:METAL OVER COTTBUS: HYPNOS + PANDEMIA + NALAR
END:VEVENT
BEGIN:VEVENT
UID:pretix-buntewelt-MMS260417-0@tickets.buntewelt-cb.de
DTSTART;TZID=Europe/Berlin:20260417T200000
DTEND;TZID=Europe/Berlin:20260417T210000
DESCRIPTION:Tickets: https://tickets.buntewelt-cb.de/MMS260417/\nEinlass: 1
 7.04.2026 19:00\nVeranstalter: Kulturzentrum Bunte Welt
DTSTAMP:20260421T012100Z
LOCATION:Kulturzentrum Bunte Welt\, Thierbacher Straße 21\, 03048 Cottbus
SUMMARY:DAS SEMINAR + MUCKRAKE + MY WIFE AND THE MICROWAVE
END:VEVENT
BEGIN:VEVENT
UID:pretix-buntewelt-DPM260502-0@tickets.buntewelt-cb.de
DTSTART;TZID=Europe/Berlin:20260502T200000
DTEND;TZID=Europe/Berlin:20260502T210000
DESCRIPTION:Tickets: https://tickets.buntewelt-cb.de/DPM260502/\nEinlass: 0
 2.05.2026 19:00\nVeranstalter: Kulturzentrum Bunte Welt
DTSTAMP:20260421T012100Z
LOCATION:Kulturzentrum Bunte Welt\, Thierbacher Straße 21\, 03048 Cottbus
SUMMARY:DEPECHE MODE PARTY | LIVE: UNIFY SEPARATE & MENTAL EXILE
END:VEVENT
BEGIN:VEVENT
UID:pretix-buntewelt-MHA0322-0@tickets.buntewelt-cb.de
DTSTART;TZID=Europe/Berlin:20260530T193000
DTEND;TZID=Europe/Berlin:20260530T203000
DESCRIPTION:Tickets: https://tickets.buntewelt-cb.de/MHA0322/\nEinlass: 30.
 05.2026 19:00\nVeranstalter: Kulturzentrum Bunte Welt
DTSTAMP:20260421T012100Z
LOCATION:Kulturzentrum Bunte Welt\, Thierbacher Straße 21\, 03048 Cottbus
SUMMARY:Molllust + December Night+ Hel`s Throne + Arbeitsgruppe Lobotomie
END:VEVENT
BEGIN:VEVENT
UID:pretix-buntewelt-EOG260905-0@tickets.buntewelt-cb.de
DTSTART;TZID=Europe/Berlin:20260905T200000
DTEND;TZID=Europe/Berlin:20260905T210000
DESCRIPTION:Tickets: https://tickets.buntewelt-cb.de/EOG260905/\nEinlass: 0
 5.09.2026 19:00\nVeranstalter: Kulturzentrum Bunte Welt
DTSTAMP:20260421T012100Z
LOCATION:Kulturzentrum Bunte Welt\, Thierbacher Straße 21\, 03048 Cottbus
SUMMARY:EMPIRE OF GIANTS & MY INNER CIRCLE & BUTTERFLY K
END:VEVENT
BEGIN:VEVENT
UID:pretix-buntewelt-BSC260919-0@tickets.buntewelt-cb.de
DTSTART;TZID=Europe/Berlin:20260919T200000
DTEND;TZID=Europe/Berlin:20260919T210000
DESCRIPTION:Tickets: https://tickets.buntewelt-cb.de/BSC260919/\nEinlass: 1
 9.09.2026 19:00\nVeranstalter: Kulturzentrum Bunte Welt
DTSTAMP:20260421T012100Z
LOCATION:Kulturzentrum Bunte Welt\, Thierbacher Straße 21\, 03048 Cottbus
SUMMARY:BLACK SWARM CONCERTS - GULVØSS - WHOLE - KY
END:VEVENT
BEGIN:VEVENT
UID:pretix-buntewelt-FPS261106-0@tickets.buntewelt-cb.de
DTSTART;TZID=Europe/Berlin:20261106T200000
DTEND;TZID=Europe/Berlin:20261106T210000
DESCRIPTION:Tickets: https://tickets.buntewelt-cb.de/FPS261106/\nEinlass: 0
 6.11.2026 19:00\nVeranstalter: Kulturzentrum Bunte Welt
DTSTAMP:20260421T012100Z
LOCATION:Kulturzentrum Bunte Welt\, Thierbacher Straße 21\, 03048 Cottbus
SUMMARY:FROZEN PLASMA + SPECIAL GUEST
END:VEVENT
BEGIN:VEVENT
UID:pretix-buntewelt-EIB260110-0@tickets.buntewelt-cb.de
DTSTART;TZID=Europe/Berlin:20261107T200000
DTEND;TZID=Europe/Berlin:20261107T210000
DESCRIPTION:Tickets: https://tickets.buntewelt-cb.de/EIB260110/\nEinlass: 0
 7.11.2026 19:00\nVeranstalter: Kulturzentrum Bunte Welt
DTSTAMP:20260421T012100Z
LOCATION:Kulturzentrum Bunte Welt\, Thierbacher Straße 21\, 03048 Cottbus
SUMMARY:EXCREMENTORY GRINDFUCKERS + INGE & HEINZ + BOWEL EVACUATION
END:VEVENT
BEGIN:VEVENT
UID:pretix-buntewelt-GUTSCHEINE-0@tickets.buntewelt-cb.de
DTSTART;VALUE=DATE:21001231
DTEND;VALUE=DATE:21010101
DESCRIPTION:Tickets: https://tickets.buntewelt-cb.de/GUTSCHEINE/\nVeranstal
 ter: Kulturzentrum Bunte Welt
DTSTAMP:20260421T012100Z
LOCATION:Kulturzentrum Bunte Welt\, Thierbacher Straße 21\, 03048 Cottbus
SUMMARY:Geschenkgutscheine
END:VEVENT
END:VCALENDAR
